BEGIN:VCALENDAR
VERSION:2.0
PRODID:-//Friends of the Animals - ECPv6.15.17.1//NONSGML v1.0//EN
CALSCALE:GREGORIAN
METHOD:PUBLISH
X-ORIGINAL-URL:https://www.fotas.org
X-WR-CALDESC:Events for Friends of the Animals
REFRESH-INTERVAL;VALUE=DURATION:PT1H
X-Robots-Tag:noindex
X-PUBLISHED-TTL:PT1H
BEGIN:VTIMEZONE
TZID:America/Los_Angeles
BEGIN:DAYLIGHT
TZOFFSETFROM:-0800
TZOFFSETTO:-0700
TZNAME:PDT
DTSTART:20240310T100000
END:DAYLIGHT
BEGIN:STANDARD
TZOFFSETFROM:-0700
TZOFFSETTO:-0800
TZNAME:PST
DTSTART:20241103T090000
END:STANDARD
BEGIN:DAYLIGHT
TZOFFSETFROM:-0800
TZOFFSETTO:-0700
TZNAME:PDT
DTSTART:20250309T100000
END:DAYLIGHT
BEGIN:STANDARD
TZOFFSETFROM:-0700
TZOFFSETTO:-0800
TZNAME:PST
DTSTART:20251102T090000
END:STANDARD
BEGIN:DAYLIGHT
TZOFFSETFROM:-0800
TZOFFSETTO:-0700
TZNAME:PDT
DTSTART:20260308T100000
END:DAYLIGHT
BEGIN:STANDARD
TZOFFSETFROM:-0700
TZOFFSETTO:-0800
TZNAME:PST
DTSTART:20261101T090000
END:STANDARD
END:VTIMEZONE
BEGIN:VEVENT
DTSTART;TZID=America/Los_Angeles:20250412T110000
DTEND;TZID=America/Los_Angeles:20250412T150000
DTSTAMP:20260424T041716
CREATED:20250302T153725Z
LAST-MODIFIED:20250408T174521Z
UID:12008-1744455600-1744470000@www.fotas.org
SUMMARY:Feline Adoption Fair - April 12\, 2025
DESCRIPTION:Join us at the Rogue Valley Mall to visit with and adopt kittens and cats from local feline rescue groups … all in one place!\nSaturday\, April 12 th (the 2nd Saturday of every month!)\n11:00 am – 3:00 pm\nROGUE VALLEY MALL\nNEXT TO KAY JEWELERS\, LOWER-LEVEL – NEAR MACY’S\n \nIt’s a partnership to help find purrfect homes for all felines in our community. Three cat rescue organizations are participating.  That means you’ll be able to visit with up to 50 felines from around the Rogue Valley! \nKitten season has produced hundreds of unplanned litters. Non-profit feline rescue organizations and their dedicated volunteers have generously saved kittens throughout the Rogue Valley and raised them in foster homes. Many are now ready for adoption. \nThe Rogue Valley Mall is generously providing space (location to be announced) where there will be 50 kittens and cats available for adoption.  \nAll felines are friendly\, vaccinated (initial doses)\, spayed/neutered\, and come with a microchip – a permanent form of ID.\nThe adoption fees are REDUCED to just $125 per feline\, PLUS Friends of the Animals will pay the 2nd adoption fee (2-Fur-1) if two cats/kittens are adopted together!\nThat means that FOTAS will be picking up the second adoption fee! You get two adorable cats or kitties to bring home for the price of one.  It’s a GREAT deal and your new companions will be happier too! \nLEARN HOW ADOPTING TWO KITTENS IS BETTER THAN ONE.\na selection of FOTAS kitties that will be showcased at the Feline Fair!\nParticipating organizations:\n\nFriends of the Animals (FOTAS)\nRogue Community Cat Rescue\nMelly Cat Rescue\n\n\n\n\n\n\nHOSTED BY\n\n\n\nEVENT SPACE DONATED BY
URL:https://www.fotas.org/event/feline-fair-april-12/
LOCATION:Rogue Valley Mall\, 1600 N Riverside Ave\, Medford\, OR\, 97501\, United States
CATEGORIES:Adoption Outreach
ATTACH;FMTTYPE=image/png:https://www.fotas.org/wp-content/uploads/2025/02/CAT-adoption-Rogue-Valley-Mall-GENERIC-Cookie-location-2.28.25.png
END:VEVENT
BEGIN:VEVENT
DTSTART;TZID=America/Los_Angeles:20250412T120000
DTEND;TZID=America/Los_Angeles:20250412T150000
DTSTAMP:20260424T041716
CREATED:20250402T161820Z
LAST-MODIFIED:20250401T163634Z
UID:12391-1744459200-1744470000@www.fotas.org
SUMMARY:Volunteer Fair
DESCRIPTION:  \nFOTAS Volunteer Fair \nCome explore the many ways you can make a difference in the lives of dogs\, cats\, kittens & puppies! \nOpportunities include: dog walking and socialization\, fostering kittens or dogs\, volunteering at the Spay/Neuter Clinic and helping with many other specialized projects. \nEnjoy light refreshments\, connect with other animal lovers\, and discover the perfect volunteer opportunity for you. We can’t wait to welcome you! \n\nWhen: Saturday April 12th from 12:00-3:00.\nWhere: FOTAS Clinic\, 3265 Biddle Rd.\, Medford\, OR 97501 (at stoplight before the airport)\nLet us know you can attend! www.calendly.com/fotas\n\nIf you are unable to make it\, you can stop by the FOTAS office at the Jackson County Animal Shelter Sunday-Thursday 11am to 4am to talk to our Support Services Associate Liz about various opportunities. \n \n 
URL:https://www.fotas.org/event/volunteer-fair/
LOCATION:FOTAS Community Spay & Neuter Clinic\, 3265 Biddle Road\, Medford\, OR\, 97501\, United States
CATEGORIES:Special Event
ATTACH;FMTTYPE=image/png:https://www.fotas.org/wp-content/uploads/2025/04/Volunteer-Fair-SP-March-6.5-x-4.75-in-2-1.png
END:VEVENT
END:VCALENDAR