BEGIN:VCALENDAR
VERSION:2.0
PRODID:-//Friends of the Animals - ECPv6.15.17.1//NONSGML v1.0//EN
CALSCALE:GREGORIAN
METHOD:PUBLISH
X-WR-CALNAME:Friends of the Animals
X-ORIGINAL-URL:https://www.fotas.org
X-WR-CALDESC:Events for Friends of the Animals
REFRESH-INTERVAL;VALUE=DURATION:PT1H
X-Robots-Tag:noindex
X-PUBLISHED-TTL:PT1H
BEGIN:VTIMEZONE
TZID:America/Los_Angeles
BEGIN:DAYLIGHT
TZOFFSETFROM:-0800
TZOFFSETTO:-0700
TZNAME:PDT
DTSTART:20250309T100000
END:DAYLIGHT
BEGIN:STANDARD
TZOFFSETFROM:-0700
TZOFFSETTO:-0800
TZNAME:PST
DTSTART:20251102T090000
END:STANDARD
BEGIN:DAYLIGHT
TZOFFSETFROM:-0800
TZOFFSETTO:-0700
TZNAME:PDT
DTSTART:20260308T100000
END:DAYLIGHT
BEGIN:STANDARD
TZOFFSETFROM:-0700
TZOFFSETTO:-0800
TZNAME:PST
DTSTART:20261101T090000
END:STANDARD
BEGIN:DAYLIGHT
TZOFFSETFROM:-0800
TZOFFSETTO:-0700
TZNAME:PDT
DTSTART:20270314T100000
END:DAYLIGHT
BEGIN:STANDARD
TZOFFSETFROM:-0700
TZOFFSETTO:-0800
TZNAME:PST
DTSTART:20271107T090000
END:STANDARD
END:VTIMEZONE
BEGIN:VEVENT
DTSTART;TZID=America/Los_Angeles:20260214T120000
DTEND;TZID=America/Los_Angeles:20260214T150000
DTSTAMP:20260421T051043
CREATED:20260110T002503Z
LAST-MODIFIED:20260110T002503Z
UID:12968-1771070400-1771081200@www.fotas.org
SUMMARY:My Furry Valentine
DESCRIPTION:Bring your special someone (dog or human!) down to Edenvale Winery on Valentine’s Day and enjoy Edenvale Wines paired perfectly for dog-lovers\, all while getting smooched at the doggy kissing booth — Maybe one of the adoptable dogs will become your forever Valentine!! Friends of all ages are welcome to enjoy crafts for creating special Valentine cards\, photo ops in our doggy kissing booth\, and meet and greets with adoptable dogs – all hosted by Friends of the Animals (FOTAS). Come support this paws-itively adorable adoption event at the Edenvale Tasting Room from noon-3:00pm!
URL:https://www.fotas.org/event/my-furry-valentine/
LOCATION:OR
ATTACH;FMTTYPE=image/jpeg:https://www.fotas.org/wp-content/uploads/My-Furry-Valentine-Flyer-Instagram-Post-45.jpeg
END:VEVENT
END:VCALENDAR