BEGIN:VCALENDAR
VERSION:2.0
PRODID:-//Friends of the Animals - ECPv6.15.17.1//NONSGML v1.0//EN
CALSCALE:GREGORIAN
METHOD:PUBLISH
X-WR-CALNAME:Friends of the Animals
X-ORIGINAL-URL:https://www.fotas.org
X-WR-CALDESC:Events for Friends of the Animals
REFRESH-INTERVAL;VALUE=DURATION:PT1H
X-Robots-Tag:noindex
X-PUBLISHED-TTL:PT1H
BEGIN:VTIMEZONE
TZID:America/Los_Angeles
BEGIN:DAYLIGHT
TZOFFSETFROM:-0800
TZOFFSETTO:-0700
TZNAME:PDT
DTSTART:20240310T100000
END:DAYLIGHT
BEGIN:STANDARD
TZOFFSETFROM:-0700
TZOFFSETTO:-0800
TZNAME:PST
DTSTART:20241103T090000
END:STANDARD
BEGIN:DAYLIGHT
TZOFFSETFROM:-0800
TZOFFSETTO:-0700
TZNAME:PDT
DTSTART:20250309T100000
END:DAYLIGHT
BEGIN:STANDARD
TZOFFSETFROM:-0700
TZOFFSETTO:-0800
TZNAME:PST
DTSTART:20251102T090000
END:STANDARD
BEGIN:DAYLIGHT
TZOFFSETFROM:-0800
TZOFFSETTO:-0700
TZNAME:PDT
DTSTART:20260308T100000
END:DAYLIGHT
BEGIN:STANDARD
TZOFFSETFROM:-0700
TZOFFSETTO:-0800
TZNAME:PST
DTSTART:20261101T090000
END:STANDARD
END:VTIMEZONE
BEGIN:VEVENT
DTSTART;TZID=America/Los_Angeles:20251115T080000
DTEND;TZID=America/Los_Angeles:20251115T170000
DTSTAMP:20260420T071506
CREATED:20250303T232019Z
LAST-MODIFIED:20250307T010930Z
UID:12291-1763193600-1763226000@www.fotas.org
SUMMARY:Low-cost Vaccination and Microchip Clinic
DESCRIPTION:Friends of the Animals’ Low-Cost Vaccination and Microchip Clinic\nFriends of the Animals (FOTAS) hosts a monthly low-cost vaccination and microchip clinic for our community to help keep their pets healthy and protected. \nAll clinics are available for both cats and dogs. \nEvents are “by appointment only”. One appointment per animal needed!  \nCATS must be in a sturdy carrier; DOGS must be on leash. \nPets that are ill\, on antibiotics\, in heat\, or on cortisone products cannot be vaccinated. \n \nLocation: Talent\, Oregon (address provided when you make your appointment). \nYou and your pet(s) will wait in your car to get to the Vaccination Stations. Please expect a 1-hour wait. \nVaccines Available and Costs: \n\nCat and Dog Rabies Vaccination: $25 per animal\nDog Distemper/Parvo/Upper Respiratory Vaccination: $25 per dog\nDog Bordatella (protection against canine upper respiratory infections) Vaccination: $25 per dog\nCat Distemper/PanLeuk/Upper Respiratory Vaccination: $25 per cat\nCat Feline Leukemia Vaccination: $25 per cat\n\nMicrochips: $30 per animal (a permanent form of ID that is injected between the shoulder blades; this is not a tracking device. Comes with a life-time membership; no additional fees.) \nCASH & CREDIT CARDS ONLY. No checks. \nDog Licenses:  Licensing is mandatory for dogs 6-months and older. Dog owners who get a rabies vaccination at the Talent location will be able to license their dog(s) onsite with the Jackson County Animal Shelter.  You can also license your dog(s) at the Jackson County Animal Shelter\, located at 5595 So. Pacific Hwy – 99 – in Phoenix\, near Talent\, Tuesday – Friday\, 11 AM – 4 PM\, and weekends Noon – 4 PM.
URL:https://www.fotas.org/event/monthly-low-cost-vaccination-and-microchip-clinic-8/
LOCATION:Talent Oregon
CATEGORIES:Shot Clinic
ATTACH;FMTTYPE=image/jpeg:https://www.fotas.org/wp-content/uploads/2025/03/FOTAS-Social-Media-Vax.Chip-graphic.appt_.-required-version.jpg
END:VEVENT
BEGIN:VEVENT
DTSTART;TZID=America/Los_Angeles:20251129T100000
DTEND;TZID=America/Los_Angeles:20251130T153000
DTSTAMP:20260420T071506
CREATED:20251018T225531Z
LAST-MODIFIED:20251103T211509Z
UID:12831-1764410400-1764516600@www.fotas.org
SUMMARY:Santa Paws at Edenvale Winery
DESCRIPTION:The holiday season is just around the corner\, and what better way to celebrate than by taking a festive photo with Santa\, alongside your favorite four-legged friend? Friends of the Animals (FOTAS) and Edenvale Winery are partnering once again to host Santa Paws\, a beloved holiday tradition that welcomes pets\, families\, and animal lovers alike.\nJoin us on November 29–30 from 10:00 AM to 3:30 PM at the beautifully decorated Edenvale estate\, where you can stroll the historic grounds\, sip on hot chocolate or mulled wine\, and capture a keepsake photo that’s sure to make your holiday cards shine.\nYour participation helps support FOTAS’s ongoing efforts to care for and rehome animals across Southern Oregon. Bring your pets\, your family\, and your holiday cheer\, it’s the perfect way to kick off the season together!\n📍 Edenvale Winery – Medford\, Oregon\n📅 November 29–30 | 10:00 AM – 3:30 PM\n📸 Price: $25 – Includes photo to take home\nBook Your Santa Paws Spot
URL:https://www.fotas.org/event/santa-paws-at-edenvale-winery/
LOCATION:Edenvale Winery\, 2310 Voorhies Rd\, Medford\, OR\, 97501\, United States
CATEGORIES:Special Event
ATTACH;FMTTYPE=image/png:https://www.fotas.org/wp-content/uploads/SantaPawsEvent.png
END:VEVENT
END:VCALENDAR